BEGIN:VCALENDAR
VERSION:2.0
PRODID:-//Coalition Life - ECPv6.15.20//NONSGML v1.0//EN
CALSCALE:GREGORIAN
METHOD:PUBLISH
X-ORIGINAL-URL:https://coalitionlife.com
X-WR-CALDESC:Events for Coalition Life
REFRESH-INTERVAL;VALUE=DURATION:PT1H
X-Robots-Tag:noindex
X-PUBLISHED-TTL:PT1H
BEGIN:VTIMEZONE
TZID:America/Chicago
BEGIN:DAYLIGHT
TZOFFSETFROM:-0600
TZOFFSETTO:-0500
TZNAME:CDT
DTSTART:20250309T080000
END:DAYLIGHT
BEGIN:STANDARD
TZOFFSETFROM:-0500
TZOFFSETTO:-0600
TZNAME:CST
DTSTART:20251102T070000
END:STANDARD
BEGIN:DAYLIGHT
TZOFFSETFROM:-0600
TZOFFSETTO:-0500
TZNAME:CDT
DTSTART:20260308T080000
END:DAYLIGHT
BEGIN:STANDARD
TZOFFSETFROM:-0500
TZOFFSETTO:-0600
TZNAME:CST
DTSTART:20261101T070000
END:STANDARD
BEGIN:DAYLIGHT
TZOFFSETFROM:-0600
TZOFFSETTO:-0500
TZNAME:CDT
DTSTART:20270314T080000
END:DAYLIGHT
BEGIN:STANDARD
TZOFFSETFROM:-0500
TZOFFSETTO:-0600
TZNAME:CST
DTSTART:20271107T070000
END:STANDARD
END:VTIMEZONE
BEGIN:VEVENT
DTSTART;TZID=America/Chicago:20260419T140000
DTEND;TZID=America/Chicago:20260516T160000
DTSTAMP:20260422T134731
CREATED:20260323T150227Z
LAST-MODIFIED:20260323T183535Z
UID:15972-1776607200-1778947200@coalitionlife.com
SUMMARY:Pro-Life Church BBQ - Carbondale\, IL
DESCRIPTION:Pull up a lawn chair and join the Coalition Life Carbondale team for an afternoon of good food\, great conversation\, and real stories from the front lines of pro-life ministry. Hear firsthand accounts of lives changed\, mothers supported\, and babies saved right here in our community – then share a meal with the people making it happen. This is the perfect event to bring family\, neighbors\, or anyone curious about getting involved. No agenda\, just fellowship and mission. \nEvergreen Park\, Carbondale IL\n1205 W Pleasant Hill Rd\, Carbondale\, IL 62903
URL:https://coalitionlife.com/event/pro-life-church-bbq/
CATEGORIES:Carbondale IL
END:VEVENT
END:VCALENDAR